BEGIN:VCALENDAR
VERSION:2.0
PRODID:-//Drupal//recurring_events_ical//2.0//EN
BEGIN:VEVENT
UID:4ee98e49-7199-4353-8812-c9c1185d81fc@das-atico.de
DTSTAMP:20251215T132846Z
DTSTART:20260330T163000Z
DTEND:20260330T183000Z
SUMMARY:Tango am Montag
DESCRIPTION:Für jeden von Anfänger bis Fortgeschritten
URL:http://das-atico.de/events/1962
END:VEVENT
END:VCALENDAR