BEGIN:VCALENDAR
VERSION:2.0
PRODID:-//Drupal//recurring_events_ical//2.0//EN
BEGIN:VEVENT
UID:5e1d9958-94df-4c80-a110-02972ef3e9ae@das-atico.de
DTSTAMP:20251215T132655Z
DTSTART:20260512T163000Z
DTEND:20260512T180000Z
SUMMARY:Tango am Dienstag
DESCRIPTION:Tanz für Paare.
URL:http://das-atico.de/events/1919
END:VEVENT
END:VCALENDAR