BEGIN:VCALENDAR
VERSION:2.0
PRODID:-//Drupal//recurring_events_ical//2.0//EN
BEGIN:VEVENT
UID:73d1c836-1a76-4104-80bd-d4e328d90fcc@das-atico.de
DTSTAMP:20251215T132655Z
DTSTART:20260505T163000Z
DTEND:20260505T180000Z
SUMMARY:Tango am Dienstag
DESCRIPTION:Tanz für Paare.
URL:http://das-atico.de/events/1918
END:VEVENT
END:VCALENDAR