BEGIN:VCALENDAR
VERSION:2.0
PRODID:-//Drupal//recurring_events_ical//2.0//EN
BEGIN:VEVENT
UID:0ca92c72-b12c-4e96-bc88-fe0b5cd6d134@das-atico.de
DTSTAMP:20251215T132655Z
DTSTART:20260428T163000Z
DTEND:20260428T180000Z
SUMMARY:Tango am Dienstag
DESCRIPTION:Tanz für Paare.
URL:http://das-atico.de/events/1917
END:VEVENT
END:VCALENDAR