BEGIN:VCALENDAR
VERSION:2.0
PRODID:-//Drupal//recurring_events_ical//2.0//EN
BEGIN:VEVENT
UID:6606b92a-03de-49f9-bcbf-eb1dc91b8616@das-atico.de
DTSTAMP:20251215T132655Z
DTSTART:20260421T163000Z
DTEND:20260421T180000Z
SUMMARY:Tango am Dienstag
DESCRIPTION:Tanz für Paare.
URL:http://das-atico.de/events/1916
END:VEVENT
END:VCALENDAR