BEGIN:VCALENDAR
VERSION:2.0
PRODID:-//Drupal//recurring_events_ical//2.0//EN
BEGIN:VEVENT
UID:053dade4-a497-4b06-9211-dc34de663878@das-atico.de
DTSTAMP:20251215T132655Z
DTSTART:20260414T163000Z
DTEND:20260414T180000Z
SUMMARY:Tango am Dienstag
DESCRIPTION:Tanz für Paare.
URL:http://das-atico.de/events/1915
END:VEVENT
END:VCALENDAR