BEGIN:VCALENDAR
VERSION:2.0
PRODID:-//Drupal//recurring_events_ical//2.0//EN
BEGIN:VEVENT
UID:33414370-8d63-4d26-9634-13bd05087f15@das-atico.de
DTSTAMP:20251215T132655Z
DTSTART:20260407T163000Z
DTEND:20260407T180000Z
SUMMARY:Tango am Dienstag
DESCRIPTION:Tanz für Paare.
URL:http://das-atico.de/events/1914
END:VEVENT
END:VCALENDAR