BEGIN:VCALENDAR
VERSION:2.0
PRODID:-//Drupal//recurring_events_ical//2.0//EN
BEGIN:VEVENT
UID:7d4efdba-e710-4c89-b40b-fbca4d159427@das-atico.de
DTSTAMP:20251215T132655Z
DTSTART:20260331T163000Z
DTEND:20260331T180000Z
SUMMARY:Tango am Dienstag
DESCRIPTION:Tanz für Paare.
URL:http://das-atico.de/events/1913
END:VEVENT
END:VCALENDAR