BEGIN:VCALENDAR
VERSION:2.0
PRODID:-//Drupal//recurring_events_ical//2.0//EN
BEGIN:VEVENT
UID:d4df10ef-8599-41be-8ff5-813011363737@das-atico.de
DTSTAMP:20251215T132419Z
DTSTART:20260514T163000Z
DTEND:20260514T174500Z
SUMMARY:Lindy Hop I
END:VEVENT
END:VCALENDAR