BEGIN:VCALENDAR
VERSION:2.0
PRODID:-//Drupal//recurring_events_ical//2.0//EN
BEGIN:VEVENT
UID:b2ac7ef9-43b9-483a-a8f2-ebd1e9b1f1ce@das-atico.de
DTSTAMP:20251215T132419Z
DTSTART:20260507T163000Z
DTEND:20260507T174500Z
SUMMARY:Lindy Hop I
END:VEVENT
END:VCALENDAR