BEGIN:VCALENDAR
VERSION:2.0
PRODID:-//Drupal//recurring_events_ical//2.0//EN
BEGIN:VEVENT
UID:3d74ad2c-573a-4414-bbf2-781177585627@das-atico.de
DTSTAMP:20251215T132419Z
DTSTART:20260416T163000Z
DTEND:20260416T174500Z
SUMMARY:Lindy Hop I
END:VEVENT
END:VCALENDAR