BEGIN:VCALENDAR
VERSION:2.0
PRODID:-//Drupal//recurring_events_ical//2.0//EN
BEGIN:VEVENT
UID:cdb9d822-4e12-4d25-ae80-b898d875035b@das-atico.de
DTSTAMP:20251215T132419Z
DTSTART:20260402T163000Z
DTEND:20260402T174500Z
SUMMARY:Lindy Hop I
END:VEVENT
END:VCALENDAR