BEGIN:VCALENDAR
VERSION:2.0
PRODID:-//Drupal//recurring_events_ical//2.0//EN
BEGIN:VEVENT
UID:827fdb7f-0cc0-4cd4-95dd-50ffe46c9f94@das-atico.de
DTSTAMP:20251215T132252Z
DTSTART:20260514T180000Z
DTEND:20260514T191500Z
SUMMARY:Lindy Hop II
END:VEVENT
END:VCALENDAR