BEGIN:VCALENDAR
VERSION:2.0
PRODID:-//Drupal//recurring_events_ical//2.0//EN
BEGIN:VEVENT
UID:cf4be96c-d237-42a6-94be-28e9b0ba4ff3@das-atico.de
DTSTAMP:20251215T132252Z
DTSTART:20260507T180000Z
DTEND:20260507T191500Z
SUMMARY:Lindy Hop II
END:VEVENT
END:VCALENDAR