BEGIN:VCALENDAR
VERSION:2.0
PRODID:-//Drupal//recurring_events_ical//2.0//EN
BEGIN:VEVENT
UID:722b92ac-c4b0-43f6-b7e6-683fb0966899@das-atico.de
DTSTAMP:20251215T132252Z
DTSTART:20260416T180000Z
DTEND:20260416T191500Z
SUMMARY:Lindy Hop II
END:VEVENT
END:VCALENDAR