BEGIN:VCALENDAR
VERSION:2.0
PRODID:-//Drupal//recurring_events_ical//2.0//EN
BEGIN:VEVENT
UID:8c11e27f-2a4d-49eb-9f58-d464c46adc3d@das-atico.de
DTSTAMP:20251215T132252Z
DTSTART:20260409T180000Z
DTEND:20260409T191500Z
SUMMARY:Lindy Hop II
END:VEVENT
END:VCALENDAR