BEGIN:VCALENDAR
VERSION:2.0
PRODID:-//Drupal//recurring_events_ical//2.0//EN
BEGIN:VEVENT
UID:a495a17b-855c-4737-a32b-ecec4b6d7c73@das-atico.de
DTSTAMP:20250806T105945Z
DTSTART:20260510T130000Z
DTEND:20260510T180000Z
SUMMARY:Cafémilonga
END:VEVENT
END:VCALENDAR