BEGIN:VCALENDAR
VERSION:2.0
PRODID:-//Drupal//recurring_events_ical//2.0//EN
BEGIN:VEVENT
UID:606ab73f-7497-476b-bdb5-9fedaf5f0dee@das-atico.de
DTSTAMP:20250806T105945Z
DTSTART:20260412T130000Z
DTEND:20260412T180000Z
SUMMARY:Cafémilonga
END:VEVENT
END:VCALENDAR